BEGIN:VCALENDAR
VERSION:2.0
PRODID:-//Gemeinschaftsplatz Rüstersiel - ECPv6.15.20//NONSGML v1.0//EN
CALSCALE:GREGORIAN
METHOD:PUBLISH
X-WR-CALNAME:Gemeinschaftsplatz Rüstersiel
X-ORIGINAL-URL:https://gemeinschaftsplatz-ruestersiel.de
X-WR-CALDESC:Veranstaltungen für Gemeinschaftsplatz Rüstersiel
REFRESH-INTERVAL;VALUE=DURATION:PT1H
X-Robots-Tag:noindex
X-PUBLISHED-TTL:PT1H
BEGIN:VTIMEZONE
TZID:Europe/Berlin
BEGIN:DAYLIGHT
TZOFFSETFROM:+0100
TZOFFSETTO:+0200
TZNAME:CEST
DTSTART:20250330T010000
END:DAYLIGHT
BEGIN:STANDARD
TZOFFSETFROM:+0200
TZOFFSETTO:+0100
TZNAME:CET
DTSTART:20251026T010000
END:STANDARD
BEGIN:DAYLIGHT
TZOFFSETFROM:+0100
TZOFFSETTO:+0200
TZNAME:CEST
DTSTART:20260329T010000
END:DAYLIGHT
BEGIN:STANDARD
TZOFFSETFROM:+0200
TZOFFSETTO:+0100
TZNAME:CET
DTSTART:20261025T010000
END:STANDARD
BEGIN:DAYLIGHT
TZOFFSETFROM:+0100
TZOFFSETTO:+0200
TZNAME:CEST
DTSTART:20270328T010000
END:DAYLIGHT
BEGIN:STANDARD
TZOFFSETFROM:+0200
TZOFFSETTO:+0100
TZNAME:CET
DTSTART:20271031T010000
END:STANDARD
END:VTIMEZONE
BEGIN:VEVENT
DTSTART;TZID=Europe/Berlin:20260521T150000
DTEND;TZID=Europe/Berlin:20260521T170000
DTSTAMP:20260420T061449
CREATED:20241218T130504Z
LAST-MODIFIED:20251205T104343Z
UID:8060-1779375600-1779382800@gemeinschaftsplatz-ruestersiel.de
SUMMARY:Rüstersieler Dorftreff
DESCRIPTION:Der Rüstersieler Dorftreff findet regelmäßig am 3. Donnerstag jeden Monats statt. \nDazu lädt der Förderverein Gemeinschaftsplatz Rüstersiel alle Rüstersielerinnen und Rüstersieler hiermit herzlich ein\, am Klönschnack teilzunehmen. \nDafür ist unser Vereinsheim auf dem Gemeinschaftsplatz\, Rüstersieler Str. 85a\, ab 15 Uhr geöffnet. Wer dann noch nicht kann\, kommt gerne später. \nWir treffen uns zum Ideenaustausch und sammeln Vorschläge für ein weiterhin liebenswertes Rüstersiel\, für das „Dorf in der Stadt“ und besonders für unsere weitläufige Freizeitanlage für Jung und Alt. \nDeswegen wäre es erfreulich\, wenn zusätzlich zu den Vereinsmitgliedern insbesondere Neu-Rüstersieler\, junge Eltern und junggebliebene Großeltern kämen\, die selbst oder mit ihren Kindern und Enkeln den Platz nutzen. \nWer Lust hat auf leckeren Kuchen und Kaffee\, ist herzlich eingeladen.
URL:https://gemeinschaftsplatz-ruestersiel.de/event/ruestersieler-dorftreff-2026-05/
LOCATION:Vereinshaus Förderverein Gemeinschaftsplatz Rüstersiel\, Rüstersieler Str. 85 a\, Wilhelmshaven-Rüstersiel\, 26386
CATEGORIES:Dorftreff
ATTACH;FMTTYPE=image/jpeg:https://gemeinschaftsplatz-ruestersiel.de/wp-content/uploads/2024/12/Logo-Dorftreff-neu-2.jpg
END:VEVENT
BEGIN:VEVENT
DTSTART;TZID=Europe/Berlin:20260618T150000
DTEND;TZID=Europe/Berlin:20260618T170000
DTSTAMP:20260420T061449
CREATED:20241218T130533Z
LAST-MODIFIED:20251205T104448Z
UID:8059-1781794800-1781802000@gemeinschaftsplatz-ruestersiel.de
SUMMARY:Rüstersieler Dorftreff
DESCRIPTION:Der Rüstersieler Dorftreff findet regelmäßig am 3. Donnerstag jeden Monats statt. \nDazu lädt der Förderverein Gemeinschaftsplatz Rüstersiel alle Rüstersielerinnen und Rüstersieler hiermit herzlich ein\, am Klönschnack teilzunehmen. \nDafür ist unser Vereinsheim auf dem Gemeinschaftsplatz\, Rüstersieler Str. 85a\, ab 15 Uhr geöffnet. Wer dann noch nicht kann\, kommt gerne später. \nWir treffen uns zum Ideenaustausch und sammeln Vorschläge für ein weiterhin liebenswertes Rüstersiel\, für das „Dorf in der Stadt“ und besonders für unsere weitläufige Freizeitanlage für Jung und Alt. \nDeswegen wäre es erfreulich\, wenn zusätzlich zu den Vereinsmitgliedern insbesondere Neu-Rüstersieler\, junge Eltern und junggebliebene Großeltern kämen\, die selbst oder mit ihren Kindern und Enkeln den Platz nutzen. \nWer Lust hat auf leckeren Kuchen und Kaffee\, ist herzlich eingeladen.
URL:https://gemeinschaftsplatz-ruestersiel.de/event/ruestersieler-dorftreff-2026-06/
LOCATION:Vereinshaus Förderverein Gemeinschaftsplatz Rüstersiel\, Rüstersieler Str. 85 a\, Wilhelmshaven-Rüstersiel\, 26386
CATEGORIES:Dorftreff
ATTACH;FMTTYPE=image/jpeg:https://gemeinschaftsplatz-ruestersiel.de/wp-content/uploads/2024/12/Logo-Dorftreff-neu-2.jpg
END:VEVENT
BEGIN:VEVENT
DTSTART;TZID=Europe/Berlin:20260716T150000
DTEND;TZID=Europe/Berlin:20260716T170000
DTSTAMP:20260420T061449
CREATED:20241218T130559Z
LAST-MODIFIED:20251205T104553Z
UID:8058-1784214000-1784221200@gemeinschaftsplatz-ruestersiel.de
SUMMARY:Rüstersieler Dorftreff
DESCRIPTION:Der Rüstersieler Dorftreff findet regelmäßig am 3. Donnerstag jeden Monats statt. \nDazu lädt der Förderverein Gemeinschaftsplatz Rüstersiel alle Rüstersielerinnen und Rüstersieler hiermit herzlich ein\, am Klönschnack teilzunehmen. \nDafür ist unser Vereinsheim auf dem Gemeinschaftsplatz\, Rüstersieler Str. 85a\, ab 15 Uhr geöffnet. Wer dann noch nicht kann\, kommt gerne später. \nWir treffen uns zum Ideenaustausch und sammeln Vorschläge für ein weiterhin liebenswertes Rüstersiel\, für das „Dorf in der Stadt“ und besonders für unsere weitläufige Freizeitanlage für Jung und Alt. \nDeswegen wäre es erfreulich\, wenn zusätzlich zu den Vereinsmitgliedern insbesondere Neu-Rüstersieler\, junge Eltern und junggebliebene Großeltern kämen\, die selbst oder mit ihren Kindern und Enkeln den Platz nutzen. \nWer Lust hat auf leckeren Kuchen und Kaffee\, ist herzlich eingeladen.
URL:https://gemeinschaftsplatz-ruestersiel.de/event/ruestersieler-dorftreff-2026-07/
LOCATION:Vereinshaus Förderverein Gemeinschaftsplatz Rüstersiel\, Rüstersieler Str. 85 a\, Wilhelmshaven-Rüstersiel\, 26386
CATEGORIES:Dorftreff
ATTACH;FMTTYPE=image/jpeg:https://gemeinschaftsplatz-ruestersiel.de/wp-content/uploads/2024/12/Logo-Dorftreff-neu-2.jpg
END:VEVENT
BEGIN:VEVENT
DTSTART;TZID=Europe/Berlin:20260809T110000
DTEND;TZID=Europe/Berlin:20260809T160000
DTSTAMP:20260420T061449
CREATED:20260220T171532Z
LAST-MODIFIED:20260220T171828Z
UID:8995-1786273200-1786291200@gemeinschaftsplatz-ruestersiel.de
SUMMARY:Fußballgolf 2026
DESCRIPTION:Fußballgolf ist eine Kombination aus Fußballspielen und Golfen. Ziel ist es die Parcours mit möglichst wenig Schüssen zu absolvieren. \nNach dem Auftakterfolg im letzten Jahr\, soll es auch in diesem Jahr angeboten werden. \nAlso kommt vorbei und spielt gegen eine kleine Spende mit!
URL:https://gemeinschaftsplatz-ruestersiel.de/event/fussballgolf-2026/
LOCATION:Gemeinschaftsplatz Rüstersiel\, Rüstersieler Str. 85a\, 26386\, Rüstersiel
CATEGORIES:Fußballgolf
ATTACH;FMTTYPE=image/jpeg:https://gemeinschaftsplatz-ruestersiel.de/wp-content/uploads/2025/08/Fussballgolf-6-scaled.jpg
ORGANIZER;CN="F%C3%B6rderverein Gemeinschaftsplatz R%C3%BCstersiel":MAILTO:Vorstand[at]Gemeinschaftsplatz-Ruestersiel.de
END:VEVENT
BEGIN:VEVENT
DTSTART;TZID=Europe/Berlin:20260820T150000
DTEND;TZID=Europe/Berlin:20260820T170000
DTSTAMP:20260420T061449
CREATED:20241218T130626Z
LAST-MODIFIED:20251205T104702Z
UID:8057-1787238000-1787245200@gemeinschaftsplatz-ruestersiel.de
SUMMARY:Rüstersieler Dorftreff
DESCRIPTION:Der Rüstersieler Dorftreff findet regelmäßig am 3. Donnerstag jeden Monats statt. \nDazu lädt der Förderverein Gemeinschaftsplatz Rüstersiel alle Rüstersielerinnen und Rüstersieler hiermit herzlich ein\, am Klönschnack teilzunehmen. \nDafür ist unser Vereinsheim auf dem Gemeinschaftsplatz\, Rüstersieler Str. 85a\, ab 15 Uhr geöffnet. Wer dann noch nicht kann\, kommt gerne später. \nWir treffen uns zum Ideenaustausch und sammeln Vorschläge für ein weiterhin liebenswertes Rüstersiel\, für das „Dorf in der Stadt“ und besonders für unsere weitläufige Freizeitanlage für Jung und Alt. \nDeswegen wäre es erfreulich\, wenn zusätzlich zu den Vereinsmitgliedern insbesondere Neu-Rüstersieler\, junge Eltern und junggebliebene Großeltern kämen\, die selbst oder mit ihren Kindern und Enkeln den Platz nutzen. \nWer Lust hat auf leckeren Kuchen und Kaffee\, ist herzlich eingeladen.
URL:https://gemeinschaftsplatz-ruestersiel.de/event/ruestersieler-dorftreff-2026-08/
LOCATION:Vereinshaus Förderverein Gemeinschaftsplatz Rüstersiel\, Rüstersieler Str. 85 a\, Wilhelmshaven-Rüstersiel\, 26386
CATEGORIES:Dorftreff
ATTACH;FMTTYPE=image/jpeg:https://gemeinschaftsplatz-ruestersiel.de/wp-content/uploads/2024/12/Logo-Dorftreff-neu-2.jpg
END:VEVENT
BEGIN:VEVENT
DTSTART;TZID=Europe/Berlin:20260911T170000
DTEND;TZID=Europe/Berlin:20260911T200000
DTSTAMP:20260420T061449
CREATED:20260220T172253Z
LAST-MODIFIED:20260220T172253Z
UID:9000-1789146000-1789156800@gemeinschaftsplatz-ruestersiel.de
SUMMARY:Dankeschön-Grillen 2026
DESCRIPTION:Der Vorstand lädt auch dieses Jahr wieder zum Dankeschön-Grillen ein. \nKommt zahlreich vorbei und holt Euch Bratwurst und Glühwein ab.
URL:https://gemeinschaftsplatz-ruestersiel.de/event/dankeschoen-grillen-2026/
LOCATION:Gemeinschaftsplatz Rüstersiel\, Rüstersieler Str. 85a\, 26386\, Rüstersiel
CATEGORIES:allgemein
ATTACH;FMTTYPE=image/jpeg:https://gemeinschaftsplatz-ruestersiel.de/wp-content/uploads/2025/01/PXL_20250104_163610982.MP2_-scaled.jpg
ORGANIZER;CN="F%C3%B6rderverein Gemeinschaftsplatz R%C3%BCstersiel":MAILTO:Vorstand[at]Gemeinschaftsplatz-Ruestersiel.de
END:VEVENT
BEGIN:VEVENT
DTSTART;TZID=Europe/Berlin:20260917T150000
DTEND;TZID=Europe/Berlin:20260917T170000
DTSTAMP:20260420T061449
CREATED:20241218T130655Z
LAST-MODIFIED:20251205T104845Z
UID:8055-1789657200-1789664400@gemeinschaftsplatz-ruestersiel.de
SUMMARY:Rüstersieler Dorftreff
DESCRIPTION:Der Rüstersieler Dorftreff findet regelmäßig am 3. Donnerstag jeden Monats statt. \nDazu lädt der Förderverein Gemeinschaftsplatz Rüstersiel alle Rüstersielerinnen und Rüstersieler hiermit herzlich ein\, am Klönschnack teilzunehmen. \nDafür ist unser Vereinsheim auf dem Gemeinschaftsplatz\, Rüstersieler Str. 85a\, ab 15 Uhr geöffnet. Wer dann noch nicht kann\, kommt gerne später. \nWir treffen uns zum Ideenaustausch und sammeln Vorschläge für ein weiterhin liebenswertes Rüstersiel\, für das „Dorf in der Stadt“ und besonders für unsere weitläufige Freizeitanlage für Jung und Alt. \nDeswegen wäre es erfreulich\, wenn zusätzlich zu den Vereinsmitgliedern insbesondere Neu-Rüstersieler\, junge Eltern und junggebliebene Großeltern kämen\, die selbst oder mit ihren Kindern und Enkeln den Platz nutzen. \nWer Lust hat auf leckeren Kuchen und Kaffee\, ist herzlich eingeladen.
URL:https://gemeinschaftsplatz-ruestersiel.de/event/ruestersieler-dorftreff-2026-09/
LOCATION:Vereinshaus Förderverein Gemeinschaftsplatz Rüstersiel\, Rüstersieler Str. 85 a\, Wilhelmshaven-Rüstersiel\, 26386
CATEGORIES:Dorftreff
ATTACH;FMTTYPE=image/jpeg:https://gemeinschaftsplatz-ruestersiel.de/wp-content/uploads/2024/12/Logo-Dorftreff-neu-2.jpg
END:VEVENT
BEGIN:VEVENT
DTSTART;TZID=Europe/Berlin:20261015T150000
DTEND;TZID=Europe/Berlin:20261015T170000
DTSTAMP:20260420T061449
CREATED:20241218T130746Z
LAST-MODIFIED:20251205T105046Z
UID:8053-1792076400-1792083600@gemeinschaftsplatz-ruestersiel.de
SUMMARY:Rüstersieler Dorftreff
DESCRIPTION:Der Rüstersieler Dorftreff findet regelmäßig am 3. Donnerstag jeden Monats statt. \nDazu lädt der Förderverein Gemeinschaftsplatz Rüstersiel alle Rüstersielerinnen und Rüstersieler hiermit herzlich ein\, am Klönschnack teilzunehmen. \nDafür ist unser Vereinsheim auf dem Gemeinschaftsplatz\, Rüstersieler Str. 85a\, ab 15 Uhr geöffnet. Wer dann noch nicht kann\, kommt gerne später. \nWir treffen uns zum Ideenaustausch und sammeln Vorschläge für ein weiterhin liebenswertes Rüstersiel\, für das „Dorf in der Stadt“ und besonders für unsere weitläufige Freizeitanlage für Jung und Alt. \nDeswegen wäre es erfreulich\, wenn zusätzlich zu den Vereinsmitgliedern insbesondere Neu-Rüstersieler\, junge Eltern und junggebliebene Großeltern kämen\, die selbst oder mit ihren Kindern und Enkeln den Platz nutzen. \nWer Lust hat auf leckeren Kuchen und Kaffee\, ist herzlich eingeladen.
URL:https://gemeinschaftsplatz-ruestersiel.de/event/ruestersieler-dorftreff-2026-10/
LOCATION:Vereinshaus Förderverein Gemeinschaftsplatz Rüstersiel\, Rüstersieler Str. 85 a\, Wilhelmshaven-Rüstersiel\, 26386
CATEGORIES:Dorftreff
ATTACH;FMTTYPE=image/jpeg:https://gemeinschaftsplatz-ruestersiel.de/wp-content/uploads/2024/12/Logo-Dorftreff-neu-2.jpg
END:VEVENT
BEGIN:VEVENT
DTSTART;TZID=Europe/Berlin:20261119T150000
DTEND;TZID=Europe/Berlin:20261119T170000
DTSTAMP:20260420T061449
CREATED:20241218T130816Z
LAST-MODIFIED:20251205T105200Z
UID:8054-1795100400-1795107600@gemeinschaftsplatz-ruestersiel.de
SUMMARY:Rüstersieler Dorftreff
DESCRIPTION:Der Rüstersieler Dorftreff findet regelmäßig am 3. Donnerstag jeden Monats statt. \nDazu lädt der Förderverein Gemeinschaftsplatz Rüstersiel alle Rüstersielerinnen und Rüstersieler hiermit herzlich ein\, am Klönschnack teilzunehmen. \nDafür ist unser Vereinsheim auf dem Gemeinschaftsplatz\, Rüstersieler Str. 85a\, ab 15 Uhr geöffnet. Wer dann noch nicht kann\, kommt gerne später. \nWir treffen uns zum Ideenaustausch und sammeln Vorschläge für ein weiterhin liebenswertes Rüstersiel\, für das „Dorf in der Stadt“ und besonders für unsere weitläufige Freizeitanlage für Jung und Alt. \nDeswegen wäre es erfreulich\, wenn zusätzlich zu den Vereinsmitgliedern insbesondere Neu-Rüstersieler\, junge Eltern und junggebliebene Großeltern kämen\, die selbst oder mit ihren Kindern und Enkeln den Platz nutzen. \nWer Lust hat auf leckeren Kuchen und Kaffee\, ist herzlich eingeladen.
URL:https://gemeinschaftsplatz-ruestersiel.de/event/ruestersieler-dorftreff-2026-11/
LOCATION:Vereinshaus Förderverein Gemeinschaftsplatz Rüstersiel\, Rüstersieler Str. 85 a\, Wilhelmshaven-Rüstersiel\, 26386
CATEGORIES:Dorftreff
ATTACH;FMTTYPE=image/jpeg:https://gemeinschaftsplatz-ruestersiel.de/wp-content/uploads/2024/12/Logo-Dorftreff-neu-2.jpg
END:VEVENT
BEGIN:VEVENT
DTSTART;TZID=Europe/Berlin:20261217T150000
DTEND;TZID=Europe/Berlin:20261217T170000
DTSTAMP:20260420T061449
CREATED:20251205T105345Z
LAST-MODIFIED:20251205T105345Z
UID:8878-1797519600-1797526800@gemeinschaftsplatz-ruestersiel.de
SUMMARY:Rüstersieler Dorftreff
DESCRIPTION:Der Rüstersieler Dorftreff findet normalerweise am 3. Donnerstag jeden Monats statt. \nDazu lädt der Förderverein Gemeinschaftsplatz Rüstersiel alle Rüstersielerinnen und Rüstersieler hiermit herzlich ein\, am Klönschnack teilzunehmen. \nDafür ist unser Vereinsheim auf dem Gemeinschaftsplatz\, Rüstersieler Str. 85a\, ab 15 Uhr geöffnet. Wer dann noch nicht kann\, kommt gerne später. \nWir treffen uns zum Ideenaustausch und sammeln Vorschläge für ein weiterhin liebenswertes Rüstersiel\, für das „Dorf in der Stadt“ und besonders für unsere weitläufige Freizeitanlage für Jung und Alt. \nDeswegen wäre es erfreulich\, wenn zusätzlich zu den Vereinsmitgliedern insbesondere Neu-Rüstersieler\, junge Eltern und junggebliebene Großeltern kämen\, die selbst oder mit ihren Kindern und Enkeln den Platz nutzen. \nWer Lust hat auf leckeren Kuchen und Kaffee\, ist herzlich eingeladen.
URL:https://gemeinschaftsplatz-ruestersiel.de/event/ruestersieler-dorftreff-2026-12/
LOCATION:Vereinshaus Förderverein Gemeinschaftsplatz Rüstersiel\, Rüstersieler Str. 85 a\, Wilhelmshaven-Rüstersiel\, 26386
CATEGORIES:Dorftreff
ATTACH;FMTTYPE=image/jpeg:https://gemeinschaftsplatz-ruestersiel.de/wp-content/uploads/2024/12/Logo-Dorftreff-neu-2.jpg
END:VEVENT
END:VCALENDAR